BEGIN:VCALENDAR
VERSION:2.0
PRODID:-//ChamberMaster//Event Calendar 2.0//EN
METHOD:PUBLISH
X-PUBLISHED-TTL:P3D
REFRESH-INTERVAL:P3D
CALSCALE:GREGORIAN
BEGIN:VEVENT
DTSTART:20230810T210000Z
DTEND:20230811T000000Z
X-MICROSOFT-CDO-ALLDAYEVENT:FALSE
SUMMARY:WASHER TOURNAMENT
DESCRIPTION:2023 PBBA WASHER TOURNAMENT\n\n\n\n3303 West Illinois Ave\, Midland TX 79703\n\n\n\nCONTACT INFO@PBBATEXAS.ORG FOR SPONSORSHIP INFORMATION
X-ALT-DESC;FMTTYPE=text/html:2023 PBBA WASHER TOURNAMENT<br />\n<br />\n<b style="color: rgb(36\, 36\, 36)\; font-family: Calibri\, sans-serif\; font-size: 14.6667px\;"><span style="border: 0px\; font-style: inherit\; font-variant: inherit\; font-weight: inherit\; font-stretch: inherit\; font-size: 10pt\; line-height: inherit\; font-family: inherit\; font-optical-sizing: inherit\; font-kerning: inherit\; font-feature-settings: inherit\; font-variation-settings: inherit\; margin: 0px\; padding: 0px\; vertical-align: baseline\; color: rgb(0\, 48\, 87)\;">3303 West Illinois Ave\, Midland TX 79703</span></b><br />\n<br />\nCONTACT INFO@PBBATEXAS.ORG FOR SPONSORSHIP INFORMATION
LOCATION:3303 West Illinois Ave\, Midland TX 79703
UID:e.9397.1066
SEQUENCE:3
DTSTAMP:20260421T225822Z
URL:https://business.pbbatexas.org/events/details/washer-tournament-1066
END:VEVENT

END:VCALENDAR
