BEGIN:VCALENDAR
VERSION:2.0
PRODID:-//ChamberMaster//Event Calendar 2.0//EN
METHOD:PUBLISH
X-PUBLISHED-TTL:P3D
REFRESH-INTERVAL:P3D
CALSCALE:GREGORIAN
BEGIN:VEVENT
DTSTART:20230921T163000Z
DTEND:20230921T180000Z
X-MICROSOFT-CDO-ALLDAYEVENT:FALSE
SUMMARY:SEPTEMBER MEMBERSHIP LUNCHEON
DESCRIPTION:SEPTEMBER MEMBERSHIP LUNCHEON \n\n\n\n\n\n\n\nSPECIAL GUEST SPEAKER - JUSTIN REYES
X-ALT-DESC;FMTTYPE=text/html:SEPTEMBER MEMBERSHIP LUNCHEON&nbsp\;<br />\n<br />\n<br />\n<br />\nSPECIAL GUEST SPEAKER - JUSTIN REYES
LOCATION:ATMOS COMMUNITY ROOM 2304 LOOP 40 MIDLAND TEXAS\, TX 79706.
UID:e.9397.1072
SEQUENCE:3
DTSTAMP:20260421T212316Z
URL:https://business.pbbatexas.org/events/details/september-membership-luncheon-1072
END:VEVENT

END:VCALENDAR
