BEGIN:VCALENDAR
VERSION:2.0
PRODID:-//ChamberMaster//Event Calendar 2.0//EN
METHOD:PUBLISH
X-PUBLISHED-TTL:P3D
REFRESH-INTERVAL:P3D
CALSCALE:GREGORIAN
BEGIN:VEVENT
DTSTART:20250325T230000Z
DTEND:20250326T010000Z
X-MICROSOFT-CDO-ALLDAYEVENT:FALSE
SUMMARY:Professional Women in Building GLOW & BOWL
DESCRIPTION:JOIN THE PWB FOR GLOW & BOWL TO RAISE MONEY FOR THE GARY KALHER MEMORIAL SCHOLARSHIP!
X-ALT-DESC;FMTTYPE=text/html:JOIN THE PWB FOR GLOW &amp\; BOWL TO RAISE MONEY FOR THE GARY KALHER MEMORIAL SCHOLARSHIP!
LOCATION:CINERGY ODESSA 8250 E HWY 191\, ODESSA TX
UID:e.9397.1120
SEQUENCE:3
DTSTAMP:20260423T211434Z
URL:https://business.pbbatexas.org/events/details/professional-women-in-building-glow-bowl-1120
END:VEVENT

END:VCALENDAR
