BEGIN:VCALENDAR
VERSION:2.0
PRODID:-//ChamberMaster//Event Calendar 2.0//EN
METHOD:PUBLISH
X-PUBLISHED-TTL:P3D
REFRESH-INTERVAL:P3D
CALSCALE:GREGORIAN
BEGIN:VEVENT
DTSTART:20230316T163000Z
DTEND:20230316T180000Z
X-MICROSOFT-CDO-ALLDAYEVENT:FALSE
SUMMARY:PBBA LUNCHEON
DESCRIPTION:Please Join us for our March Membership Luncheon on Thursday March 16th from 11:30am-1pm in The Atmos Community Room located at 2304 LOOP 40 MIDLAND TEXAS\, TX 79706.\n\n \n\nWe will have a delicious lunch to eat and lots to discuss! Admission is $25/Person can be paid at the door. Please RSVP to info@pbbatexas.org.\n\n \n\nWe look forward to seeing everyone there!\n\n \n\nThank you\,\n\n \n\n-PBBA
X-ALT-DESC;FMTTYPE=text/html:<p style="margin: 0px\; font-stretch: normal\; line-height: normal\; font-family: &quot\;Helvetica Neue&quot\;\;">Please Join us for our March Membership Luncheon on Thursday March 16<sup>th </sup>from 11:30am-1pm in The Atmos Community Room located at 2304 LOOP 40 MIDLAND TEXAS\, TX 79706.</p>\n\n<p style="margin: 0px\; font-stretch: normal\; line-height: normal\; font-family: &quot\;Helvetica Neue&quot\;\; min-height: 15px\;">&nbsp\;</p>\n\n<p style="margin: 0px\; font-stretch: normal\; line-height: normal\; font-family: &quot\;Helvetica Neue&quot\;\;">We will have a delicious lunch to eat and lots to discuss! Admission is $25/Person can be paid at the door. Please RSVP to <a href="mailto:info@pbbatexas.org"><span style="color: #dca10d">info@pbbatexas.org</span></a>.</p>\n\n<p style="margin: 0px\; font-stretch: normal\; line-height: normal\; font-family: &quot\;Helvetica Neue&quot\;\; min-height: 15px\;">&nbsp\;</p>\n\n<p style="margin: 0px\; font-stretch: normal\; line-height: normal\; font-family: &quot\;Helvetica Neue&quot\;\;">We look forward to seeing everyone there!</p>\n\n<p style="margin: 0px\; font-stretch: normal\; line-height: normal\; font-family: &quot\;Helvetica Neue&quot\;\; min-height: 15px\;">&nbsp\;</p>\n\n<p style="margin: 0px\; font-stretch: normal\; line-height: normal\; font-family: &quot\;Helvetica Neue&quot\;\;">Thank you\,</p>\n\n<p style="margin: 0px\; font-stretch: normal\; line-height: normal\; font-family: &quot\;Helvetica Neue&quot\;\; min-height: 15px\;">&nbsp\;</p>\n\n<p style="margin: 0px\; font-stretch: normal\; line-height: normal\; font-family: &quot\;Helvetica Neue&quot\;\;">-PBBA</p>\n
LOCATION:2304 LOOP 40 MIDLAND TEXAS\, TX 79706
UID:e.9397.1052
SEQUENCE:3
DTSTAMP:20260422T074928Z
URL:https://business.pbbatexas.org/events/details/pbba-luncheon-1052
END:VEVENT

END:VCALENDAR
