BEGIN:VCALENDAR
VERSION:2.0
PRODID:-//ChamberMaster//Event Calendar 2.0//EN
METHOD:PUBLISH
X-PUBLISHED-TTL:P3D
REFRESH-INTERVAL:P3D
CALSCALE:GREGORIAN
BEGIN:VEVENT
DTSTART:20230510T160000Z
DTEND:20230510T230000Z
X-MICROSOFT-CDO-ALLDAYEVENT:FALSE
SUMMARY:PBBA Golf Tournament
DESCRIPTION:23rd Annual PBBA Golf Tournament
X-ALT-DESC;FMTTYPE=text/html:23rd Annual PBBA Golf Tournament
LOCATION:Ranchland Hills Golf Club 1600 E Wadley Ave\, Midland\, TX 79705
UID:e.9397.1062
SEQUENCE:3
DTSTAMP:20260422T035456Z
URL:https://business.pbbatexas.org/events/details/pbba-golf-tournament-1062
END:VEVENT

END:VCALENDAR
