BEGIN:VCALENDAR
VERSION:2.0
PRODID:-//ChamberMaster//Event Calendar 2.0//EN
METHOD:PUBLISH
X-PUBLISHED-TTL:P3D
REFRESH-INTERVAL:P3D
CALSCALE:GREGORIAN
BEGIN:VEVENT
DTSTART:20231028T000000Z
DTEND:20231028T030000Z
X-MICROSOFT-CDO-ALLDAYEVENT:FALSE
SUMMARY:Parade of Homes Preview Party
DESCRIPTION:Join us for the PBBA Party of the Year----the Parade of Homes Preview Party!  Cadillac Rose and West Texas Abstract are preparing genuine Texas cuisine with BBQ and burgers at 2023 PBBA President Robert Anderson's shop at 7401 WolfPack Trl!
X-ALT-DESC;FMTTYPE=text/html:Join us for the PBBA Party of the Year----the Parade of Homes Preview Party!&nbsp\; Cadillac Rose and West Texas Abstract are preparing genuine Texas cuisine with BBQ and burgers at 2023 PBBA President Robert Anderson&#39\;s shop at 7401 WolfPack Trl!&nbsp\;
LOCATION:2023 PBBA President Robert Anderson's Workshop 7401 Wolf Pack Trl Midland\, TX 79705
UID:e.9397.1074
SEQUENCE:3
DTSTAMP:20260421T175309Z
URL:https://business.pbbatexas.org/events/details/parade-of-homes-preview-party-1074
END:VEVENT

END:VCALENDAR
