BEGIN:VCALENDAR
VERSION:2.0
PRODID:-//ChamberMaster//Event Calendar 2.0//EN
METHOD:PUBLISH
X-PUBLISHED-TTL:P3D
REFRESH-INTERVAL:P3D
CALSCALE:GREGORIAN
BEGIN:VEVENT
DTSTART:20230615T163000Z
DTEND:20230615T170000Z
X-MICROSOFT-CDO-ALLDAYEVENT:FALSE
SUMMARY:MEMBERSHIP LUNCHEON
DESCRIPTION:JUNE MEMBERSHIP LUNCHEON - SPONSORED BY ODESSA COLLEGE
X-ALT-DESC;FMTTYPE=text/html:JUNE MEMBERSHIP LUNCHEON - SPONSORED BY ODESSA COLLEGE
LOCATION:Saulsbury Conference Room in the Electronics Technology Building 201 W. University Avenue\, Odessa\, TX
UID:e.9397.1067
SEQUENCE:3
DTSTAMP:20260422T021033Z
URL:https://business.pbbatexas.org/events/details/membership-luncheon-1067
END:VEVENT

END:VCALENDAR
