BEGIN:VCALENDAR
VERSION:2.0
PRODID:-//ChamberMaster//Event Calendar 2.0//EN
METHOD:PUBLISH
X-PUBLISHED-TTL:P3D
REFRESH-INTERVAL:P3D
CALSCALE:GREGORIAN
BEGIN:VEVENT
DTSTART:20221215T173000Z
DTEND:20221215T190000Z
X-MICROSOFT-CDO-ALLDAYEVENT:FALSE
SUMMARY:MEMBERSHIP LUNCHEON
DESCRIPTION:Monthly Membership Luncheon
X-ALT-DESC;FMTTYPE=text/html:Monthly Membership Luncheon
LOCATION:Ranchland Hills Golf Club 1600 E Wadley Ave Midland TX 79705
UID:e.9397.1048
SEQUENCE:3
DTSTAMP:20260425T125141Z
URL:https://business.pbbatexas.org/events/details/membership-luncheon-1048
END:VEVENT

END:VCALENDAR
