BEGIN:VCALENDAR
VERSION:2.0
PRODID:-//ChamberMaster//Event Calendar 2.0//EN
METHOD:PUBLISH
X-PUBLISHED-TTL:P3D
REFRESH-INTERVAL:P3D
CALSCALE:GREGORIAN
BEGIN:VEVENT
DTSTART:20220721T163000Z
DTEND:20220721T180000Z
X-MICROSOFT-CDO-ALLDAYEVENT:FALSE
SUMMARY:MEMBERSHIP LUNCHEON
DESCRIPTION:July Monthly Membership Luncheon
X-ALT-DESC;FMTTYPE=text/html:July Monthly Membership Luncheon
LOCATION:Ranchland Hills Golf Club 1600 E Wadley Ave Midland TX 79705
UID:e.9397.1034
SEQUENCE:3
DTSTAMP:20260425T105819Z
URL:https://business.pbbatexas.org/events/details/membership-luncheon-07-21-2022-1034
END:VEVENT

END:VCALENDAR
