BEGIN:VCALENDAR
VERSION:2.0
PRODID:-//ChamberMaster//Event Calendar 2.0//EN
METHOD:PUBLISH
X-PUBLISHED-TTL:P3D
REFRESH-INTERVAL:P3D
CALSCALE:GREGORIAN
BEGIN:VEVENT
DTSTART:20220517T163000Z
DTEND:20220517T180000Z
X-MICROSOFT-CDO-ALLDAYEVENT:FALSE
SUMMARY:MEMBERSHIP LUNCHEON
DESCRIPTION:Monthly Membership Luncheon
X-ALT-DESC;FMTTYPE=text/html:Monthly Membership Luncheon
LOCATION:Odessa College 201 W University Odessa TX 79764
UID:e.9397.1033
SEQUENCE:3
DTSTAMP:20260425T125330Z
URL:https://business.pbbatexas.org/events/details/membership-luncheon-06-16-2022-1033
END:VEVENT

END:VCALENDAR
