BEGIN:VCALENDAR
VERSION:2.0
PRODID:-//ChamberMaster//Event Calendar 2.0//EN
METHOD:PUBLISH
X-PUBLISHED-TTL:P3D
REFRESH-INTERVAL:P3D
CALSCALE:GREGORIAN
BEGIN:VEVENT
DTSTART:20240118T173000Z
DTEND:20240118T190000Z
X-MICROSOFT-CDO-ALLDAYEVENT:FALSE
SUMMARY:JANUARY MEMBERSHIP LUNCHEON
DESCRIPTION:JANUARY MEMBERSHIP LUNCHEON
X-ALT-DESC;FMTTYPE=text/html:JANUARY MEMBERSHIP LUNCHEON&nbsp\;
LOCATION:ATMOS COMMUNITY ROOM 2304 LOOP 40 MIDLAND TEXAS\, TX 79706.
UID:e.9397.1078
SEQUENCE:3
DTSTAMP:20260421T113808Z
URL:https://business.pbbatexas.org/events/details/january-membership-luncheon-1078
END:VEVENT

END:VCALENDAR
