BEGIN:VCALENDAR
VERSION:2.0
PRODID:-//ChamberMaster//Event Calendar 2.0//EN
METHOD:PUBLISH
X-PUBLISHED-TTL:P3D
REFRESH-INTERVAL:P3D
CALSCALE:GREGORIAN
BEGIN:VEVENT
DTSTART:20240109T220000Z
DTEND:20240110T000000Z
X-MICROSOFT-CDO-ALLDAYEVENT:FALSE
SUMMARY:January BOARD OF DIRECTORS MEETING
DESCRIPTION:Board of Directors Meeting - discussing new board members
X-ALT-DESC;FMTTYPE=text/html:Board of Directors Meeting - discussing new board members
LOCATION:2002 W. Wall St Midland\, Tx 79705
UID:e.9397.1081
SEQUENCE:3
DTSTAMP:20260421T131910Z
URL:https://business.pbbatexas.org/events/details/january-board-of-directors-meeting-1081
END:VEVENT

END:VCALENDAR
