BEGIN:VCALENDAR
VERSION:2.0
PRODID:-//ChamberMaster//Event Calendar 2.0//EN
METHOD:PUBLISH
X-PUBLISHED-TTL:P3D
REFRESH-INTERVAL:P3D
CALSCALE:GREGORIAN
BEGIN:VEVENT
DTSTART:20230706T150000Z
DTEND:20230706T150000Z
X-MICROSOFT-CDO-ALLDAYEVENT:FALSE
SUMMARY:GROUNDBREAKING at the AFFORDABLE HOME
DESCRIPTION:GROUNDBREAKING AND RIBBON CUTTING AT AFFORDABLE HOME
X-ALT-DESC;FMTTYPE=text/html:GROUNDBREAKING AND RIBBON CUTTING AT AFFORDABLE HOME
LOCATION:602 S ATLANTA MIDLAND\, TX
UID:e.9397.1068
SEQUENCE:3
DTSTAMP:20260422T004718Z
URL:https://business.pbbatexas.org/events/details/groundbreaking-at-the-affordable-home-1068
END:VEVENT

END:VCALENDAR
