BEGIN:VCALENDAR
VERSION:2.0
PRODID:-//ChamberMaster//Event Calendar 2.0//EN
METHOD:PUBLISH
X-PUBLISHED-TTL:P3D
REFRESH-INTERVAL:P3D
CALSCALE:GREGORIAN
BEGIN:VEVENT
DTSTART:20230426T163000Z
DTEND:20230426T183000Z
X-MICROSOFT-CDO-ALLDAYEVENT:FALSE
SUMMARY:ENERGY CODE TRAINING
DESCRIPTION:Energy Code Training
X-ALT-DESC;FMTTYPE=text/html:Energy Code Training
LOCATION:The Atmos Community Room\, located at 2304 TX-40 Loop\, Midland\, TX 79706
UID:e.9397.1061
SEQUENCE:3
DTSTAMP:20260422T054334Z
URL:https://business.pbbatexas.org/events/details/energy-code-training-1061
END:VEVENT

END:VCALENDAR
