BEGIN:VCALENDAR
VERSION:2.0
PRODID:-//ChamberMaster//Event Calendar 2.0//EN
METHOD:PUBLISH
X-PUBLISHED-TTL:P3D
REFRESH-INTERVAL:P3D
CALSCALE:GREGORIAN
BEGIN:VEVENT
DTSTART:20240822T220000Z
DTEND:20240823T010000Z
X-MICROSOFT-CDO-ALLDAYEVENT:FALSE
SUMMARY:BUILDER CONNECTION
DESCRIPTION:Join us for a FUN night of networking!\n\n \nFerguson will have a Wolf Subzero and Cove rep. The rep will be bringing a Chef to cook on the Wolf Appliances for live demo. We will have good food\, beer\, and wine!
X-ALT-DESC;FMTTYPE=text/html:Join us for a FUN night of networking!<br />\n&nbsp\;\n<p class="x_MsoNormal" style="margin: 0in\; font-size: 11pt\; font-family: Aptos\, sans-serif\; color: rgb(36\, 36\, 36)\;">Ferguson will have a Wolf Subzero and Cove rep. The rep&nbsp\;<span class="marktez8bnvrl" data-markjs="true" data-ogab="" data-ogac="" data-ogsb="" data-ogsc="" style="border: 0px\; font: inherit\; margin: 0px\; padding: 0px\; vertical-align: baseline\; color: inherit\;">will</span>&nbsp\;be bringing a Chef to cook on the Wolf Appliances for live demo. We&nbsp\;<span class="marktez8bnvrl" data-markjs="true" data-ogab="" data-ogac="" data-ogsb="" data-ogsc="" style="border: 0px\; font: inherit\; margin: 0px\; padding: 0px\; vertical-align: baseline\; color: inherit\;">will</span>&nbsp\;have good food\, beer\, and wine!</p>\n
LOCATION:Ferguson Bath\, Kitchen & Lighting Gallery 6715 E Business 20\, Odessa\, TX 79762
UID:e.9397.1094
SEQUENCE:3
DTSTAMP:20260421T083000Z
URL:https://business.pbbatexas.org/events/details/builder-connection-08-22-2024-1094
END:VEVENT

END:VCALENDAR
