BEGIN:VCALENDAR
VERSION:2.0
PRODID:-//ChamberMaster//Event Calendar 2.0//EN
METHOD:PUBLISH
X-PUBLISHED-TTL:P3D
REFRESH-INTERVAL:P3D
CALSCALE:GREGORIAN
BEGIN:VEVENT
DTSTART:20231219T220000Z
DTEND:20231220T000000Z
X-MICROSOFT-CDO-ALLDAYEVENT:FALSE
SUMMARY:BOARD OF DIRECTORS MEETING
DESCRIPTION:Last Board of Directors Meeting of 2023
X-ALT-DESC;FMTTYPE=text/html:Last Board of Directors Meeting of 2023
LOCATION:NEW OFFICE 4400 N Big Spring St\, Ste 213 Midland\, TX 79705 Legacy Building\, Upstairs\, North Hallway\, Last office on the left.
UID:e.9397.1077
SEQUENCE:3
DTSTAMP:20260421T145326Z
URL:https://business.pbbatexas.org/events/details/board-of-directors-meeting-1077
END:VEVENT

END:VCALENDAR
