BEGIN:VCALENDAR
VERSION:2.0
PRODID:-//ChamberMaster//Event Calendar 2.0//EN
METHOD:PUBLISH
X-PUBLISHED-TTL:P3D
REFRESH-INTERVAL:P3D
CALSCALE:GREGORIAN
BEGIN:VEVENT
DTSTART:20240222T230000Z
DTEND:20240223T020000Z
X-MICROSOFT-CDO-ALLDAYEVENT:FALSE
SUMMARY:BEER WITH A BUILDER
DESCRIPTION:Grab a brewski with us in the Ferguson showroom and get a chance to meet the GE rep of West Tx\, the Southwest Sales rep for Delta faucets and Rheem water heaters\, and Kichler lighting!
X-ALT-DESC;FMTTYPE=text/html:<span style="color: rgb(5\, 5\, 5)\; font-family: system-ui\, -apple-system\, &quot\;system-ui&quot\;\, &quot\;.SFNSText-Regular&quot\;\, sans-serif\; font-size: 15px\; white-space-collapse: preserve\;">Grab a brewski with us in the Ferguson showroom and get a chance to meet the GE rep of West Tx\, the Southwest Sales rep for Delta faucets and Rheem water heaters\, and Kichler lighting!</span>
LOCATION:Ferguson Bath\, Kitchen & Lighting Gallery 6715 E Business 20\, Odessa\, TX 79762
UID:e.9397.1085
SEQUENCE:3
DTSTAMP:20260423T102230Z
URL:https://business.pbbatexas.org/events/details/beer-with-a-builder-1085
END:VEVENT

END:VCALENDAR
