BEGIN:VCALENDAR
VERSION:2.0
PRODID:-//ChamberMaster//Event Calendar 2.0//EN
METHOD:PUBLISH
X-PUBLISHED-TTL:P3D
REFRESH-INTERVAL:P3D
CALSCALE:GREGORIAN
BEGIN:VEVENT
DTSTART:20230928T220000Z
DTEND:20230929T000000Z
X-MICROSOFT-CDO-ALLDAYEVENT:FALSE
SUMMARY:Beer with a Builder
DESCRIPTION:GET READY FOR BEER WITH A BUILDER\n\n\n\nBYOB AT THE PERMIAN BASIN BUILDERS ASSOCIATION
X-ALT-DESC;FMTTYPE=text/html:GET READY FOR BEER WITH A BUILDER<br />\n<br />\nBYOB AT THE PERMIAN BASIN BUILDERS ASSOCIATION<br />\n<br />\n&nbsp\;
LOCATION:PERMIAN BASIN BUILDERS ASSOCIATION 2002 W WALL ST\, MIDLAND\, TX
UID:e.9397.1073
SEQUENCE:3
DTSTAMP:20260421T211857Z
URL:https://business.pbbatexas.org/events/details/beer-with-a-builder-1073
END:VEVENT

END:VCALENDAR
