BEGIN:VCALENDAR
VERSION:2.0
PRODID:-//ChamberMaster//Event Calendar 2.0//EN
METHOD:PUBLISH
X-PUBLISHED-TTL:P3D
REFRESH-INTERVAL:P3D
CALSCALE:GREGORIAN
BEGIN:VEVENT
DTSTART:20230419T220000Z
DTEND:20230420T010000Z
X-MICROSOFT-CDO-ALLDAYEVENT:FALSE
SUMMARY:BEER WITH A BUILDER
DESCRIPTION:Join Us for Beer with a Builder! \n\n\n\nPresented by Ferguson. and GE West Texas Rep
X-ALT-DESC;FMTTYPE=text/html:Join Us for Beer with a Builder!&nbsp\;<br />\n<br />\nPresented by Ferguson. and GE West Texas Rep
LOCATION:Ferguson 6715 I-20 BL Odessa\, TX 79762
UID:e.9397.1064
SEQUENCE:3
DTSTAMP:20260422T054554Z
URL:https://business.pbbatexas.org/events/details/beer-with-a-builder-1064
END:VEVENT

END:VCALENDAR
