BEGIN:VCALENDAR
VERSION:2.0
PRODID:-//ChamberMaster//Event Calendar 2.0//EN
METHOD:PUBLISH
X-PUBLISHED-TTL:P3D
REFRESH-INTERVAL:P3D
CALSCALE:GREGORIAN
BEGIN:VEVENT
DTSTART:20230817T163000Z
DTEND:20230817T180000Z
X-MICROSOFT-CDO-ALLDAYEVENT:FALSE
SUMMARY:AUGUST MEMBERSHIP LUNCHEON
DESCRIPTION:AUGUST MEMBERSHIP LUNCHEON \n\n\n\nSPONSORED BY OCEANFRONT CAPITAL \n\n\n\nSPECIAL GUEST SPEAKER - JUSTIN REYES
X-ALT-DESC;FMTTYPE=text/html:AUGUST MEMBERSHIP LUNCHEON&nbsp\;<br />\n<br />\nSPONSORED BY OCEANFRONT CAPITAL&nbsp\;<br />\n<br />\nSPECIAL GUEST SPEAKER - JUSTIN REYES
LOCATION:ATMOS COMMUNITY ROOM 2304 LOOP 40 MIDLAND TEXAS\, TX 79706.
UID:e.9397.1070
SEQUENCE:3
DTSTAMP:20260421T225808Z
URL:https://business.pbbatexas.org/events/details/august-membership-luncheon-1070
END:VEVENT

END:VCALENDAR
