BEGIN:VCALENDAR
VERSION:2.0
PRODID:-//ChamberMaster//Event Calendar 2.0//EN
METHOD:PUBLISH
X-PUBLISHED-TTL:P3D
REFRESH-INTERVAL:P3D
CALSCALE:GREGORIAN
BEGIN:VEVENT
DTSTART;VALUE=DATE:20260623
DTEND;VALUE=DATE:20260624
TRANSP:TRANSPARENT
X-MICROSOFT-CDO-ALLDAYEVENT:TRUE
SUMMARY:26TH ANNUAL GOLF TOURNAMENT
DESCRIPTION:26th Annual Golf Tournament! REGISTRATION MUST BE COMPLETED TO BE INVOICED. INVOICES MUST BE PAID BY MAY 23.
X-ALT-DESC;FMTTYPE=text/html:26th Annual Golf Tournament! REGISTRATION MUST BE COMPLETED TO BE INVOICED. INVOICES MUST BE PAID BY MAY 23.
LOCATION:Ratliff Ranch Golf Links 7500 N. Grandview Odessa\, TX 79762
UID:e.9397.1447
SEQUENCE:3
DTSTAMP:20260425T215712Z
URL:https://business.pbbatexas.org/events/details/26th-annual-golf-tournament-1447
END:VEVENT

END:VCALENDAR
