BEGIN:VCALENDAR
VERSION:2.0
PRODID:-//ChamberMaster//Event Calendar 2.0//EN
METHOD:PUBLISH
X-PUBLISHED-TTL:P3D
REFRESH-INTERVAL:P3D
CALSCALE:GREGORIAN
BEGIN:VEVENT
DTSTART;VALUE=DATE:20250507
DTEND;VALUE=DATE:20250508
TRANSP:TRANSPARENT
X-MICROSOFT-CDO-ALLDAYEVENT:TRUE
SUMMARY:25TH ANNUAL GOLF TOURNAMENT
DESCRIPTION:25th Annual Golf Tournament! REGISTRATION MUST BE COMPLETED TO BE INVOICED. INVOICES MUST BE PAID BY MAY 1.
X-ALT-DESC;FMTTYPE=text/html:25th Annual Golf Tournament! REGISTRATION MUST BE COMPLETED TO BE INVOICED. INVOICES MUST BE PAID BY MAY 1.
LOCATION:Ratliff Ranch Golf Links 7500 N. Grandview Odessa\, TX 79762
UID:e.9397.1113
SEQUENCE:3
DTSTAMP:20260422T104849Z
URL:https://business.pbbatexas.org/events/details/25th-annual-golf-tournament-1113
END:VEVENT

END:VCALENDAR
