BEGIN:VCALENDAR
VERSION:2.0
PRODID:-//ChamberMaster//Event Calendar 2.0//EN
METHOD:PUBLISH
X-PUBLISHED-TTL:P3D
REFRESH-INTERVAL:P3D
CALSCALE:GREGORIAN
BEGIN:VEVENT
DTSTART:20231104T170000Z
DTEND:20231105T220000Z
X-MICROSOFT-CDO-ALLDAYEVENT:FALSE
SUMMARY:2023 Parade of Homes
DESCRIPTION:Parade of Homes is a chance to see examples of work from the some of the best builders in the Permian Basin.
X-ALT-DESC;FMTTYPE=text/html:Parade of Homes is a chance to see examples of work from the some of the best builders in the Permian Basin.
LOCATION:602 S. Atlanta - This 3 bedroom\, 2 bathroom home features an open floor plan and was designed by the community\, who helped the PBBA choose finishes such as brick color\, hardware\, paint\, and more! 4203 Megan Ct - Beautiful new construction in Grandridge at cul-de-sac locationwith impressive entry and fabulous open flow! 3600 Oakridge - Beautiful open concept 4 bedroom\, 3 bathroom home with 2 car garage in stunning Crestgate subdivision with great curb appeal! 4212 Tanforan - Custom designed 5 bedroom home with 2 living areas on wonderful corner lot in Mockingbird Heights 4504 Solana - Stunning low maintenance open concept home with butler pantry\, large closets\, \, 3 car garage\, and large covered patio. 2600 Hazel Ln - This 4-bedroom\, 3-bathroom new home comes complete with a spacious kitchen\, including a gorgeous island\, gas cooktop\, and double ovens\, making it the perfect space for hosting! 5003 Balfour - Two story design with modern finishes\, triple garage\, and over-sized covered patio with outdoor kitchen! 3613 Gray Wolf Trl - Large open concept floor plan on 2 acres of land in Timber Wolf Estates North with TONS of customs throughout!!
UID:e.9397.1075
SEQUENCE:3
DTSTAMP:20260421T164327Z
URL:https://business.pbbatexas.org/events/details/2023-parade-of-homes-1075
END:VEVENT

END:VCALENDAR
